BEGIN:VCALENDAR
VERSION:2.0
PRODID:-//Coolangatta Sands Hotel - ECPv5.1.6//NONSGML v1.0//EN
CALSCALE:GREGORIAN
METHOD:PUBLISH
X-WR-CALNAME:Coolangatta Sands Hotel
X-ORIGINAL-URL:http://coolangattasandshotel.com.au
X-WR-CALDESC:Events for Coolangatta Sands Hotel
BEGIN:VTIMEZONE
TZID:Europe/Paris
BEGIN:DAYLIGHT
TZOFFSETFROM:+0100
TZOFFSETTO:+0200
TZNAME:CEST
DTSTART:20190331T010000
END:DAYLIGHT
BEGIN:STANDARD
TZOFFSETFROM:+0200
TZOFFSETTO:+0100
TZNAME:CET
DTSTART:20191027T010000
END:STANDARD
END:VTIMEZONE
BEGIN:VEVENT
DTSTART;TZID=Europe/Paris:20190710T180000
DTEND;TZID=Europe/Paris:20190710T220000
DTSTAMP:20210301T011343
CREATED:20190513T032207Z
LAST-MODIFIED:20190606T042747Z
UID:1744-1562781600-1562796000@coolangattasandshotel.com.au
SUMMARY:State of Origin 2019
DESCRIPTION:Why did the toad cross the road?  \nTo squash the roaches. \nDon’t miss out on the action – join us at the Sands for an epic State of Origin celebration! Round up your mates and watch all three games live and loud across our screens on June 5\, June 23 and July 10.  \nOur bar will be in full footy-swing as we dish up free\, tasty bar snacks during the game! Feeling the heat? Cool off with an ice cold schooner of Young Henry’s and Balter beer.  \nAnd if you’re feeling extra lucky (we hope you are!) try to pick the score to win a $100 CHS Voucher!  \nGear up for a bloody good night of bites\, brews and celebration at the Sands!
URL:http://coolangattasandshotel.com.au/whats-on/state-origin-2019/2019-07-10/
LOCATION:Coolangatta Sands Hotel\, Corner of Griffith & McLean Streets\, Coolangatta\, Queensland\, 4225\, Australia
ATTACH;FMTTYPE=image/png:http://coolangattasandshotel.com.au/wp-content/uploads/2019/06/CSH_State-of-Origin_WEB.png
ORGANIZER;CN="Coolangatta%20Sands%20Hotel":MAILTO:dutymanager@coolangattasandshotel.com.au
END:VEVENT
END:VCALENDAR