BEGIN:VCALENDAR
VERSION:2.0
PRODID:-//Coolangatta Sands Hotel - ECPv5.1.6//NONSGML v1.0//EN
CALSCALE:GREGORIAN
METHOD:PUBLISH
X-WR-CALNAME:Coolangatta Sands Hotel
X-ORIGINAL-URL:http://coolangattasandshotel.com.au
X-WR-CALDESC:Events for Coolangatta Sands Hotel
BEGIN:VTIMEZONE
TZID:Europe/Paris
BEGIN:DAYLIGHT
TZOFFSETFROM:+0100
TZOFFSETTO:+0200
TZNAME:CEST
DTSTART:20190331T010000
END:DAYLIGHT
BEGIN:STANDARD
TZOFFSETFROM:+0200
TZOFFSETTO:+0100
TZNAME:CET
DTSTART:20191027T010000
END:STANDARD
END:VTIMEZONE
BEGIN:VEVENT
DTSTART;TZID=Europe/Paris:20191122T190000
DTEND;TZID=Europe/Paris:20191122T220000
DTSTAMP:20210301T010558
CREATED:20191121T214748Z
LAST-MODIFIED:20191121T214748Z
UID:2023-1574449200-1574460000@coolangattasandshotel.com.au
SUMMARY:Scott Dalton Duo - Live Music
DESCRIPTION:The Cooly Sands has some great live music every Friday night. \nKicking off from 7pm in our Public Bar. This week we have the ever talented Scot Dalton Duo back to sooth your soul and get your weekend started. \n  \nSee you at the Sands \nLive Music Fridays with Scott Dalton Duo
URL:http://coolangattasandshotel.com.au/whats-on/scott-dalton-duo-live-music/
LOCATION:Coolangatta Sands Hotel\, Corner of Griffith & McLean Streets\, Coolangatta\, Queensland\, 4225\, Australia
ORGANIZER;CN="Coolangatta%20Sands%20Hotel":MAILTO:dutymanager@coolangattasandshotel.com.au
END:VEVENT
END:VCALENDAR